BEGIN:VCALENDAR
VERSION:2.0
PRODID:-//ECG-u - ECPv4.2.6//NONSGML v1.0//EN
CALSCALE:GREGORIAN
METHOD:PUBLISH
X-WR-CALNAME:ECG-u
X-ORIGINAL-URL:https://ecgu.ca
X-WR-CALDESC:Events for ECG-u
BEGIN:VEVENT
DTSTART;TZID=Africa/Abidjan:20161025T080000
DTEND;TZID=Africa/Abidjan:20161025T170000
DTSTAMP:20260420T090259
CREATED:20160913T055158
LAST-MODIFIED:20160913T055158
UID:966-1477382400-1477414800@ecgu.ca
SUMMARY:AMUQ 2016 - ECG-u 1 - COMPLET!
DESCRIPTION:Le cours ECGu-1 est à nouveau offert par l'AMUQ le 25 octobre 2016 en pré-congrès. COMPLET!\n\nhttps://amuq.qc.ca/formation/33e-congres-scientifique-en-medecine-durgence/formulaire-dinscription-au-33e-congres-scientifique-de-medecine-durgence/
URL:https://ecgu.ca/event/amuq-2016-ecg-u-1-complet/
END:VEVENT
END:VCALENDAR