BEGIN:VCALENDAR
VERSION:2.0
PRODID:-//ECG-u - ECPv4.2.6//NONSGML v1.0//EN
CALSCALE:GREGORIAN
METHOD:PUBLISH
X-WR-CALNAME:ECG-u
X-ORIGINAL-URL:https://ecgu.ca
X-WR-CALDESC:Events for ECG-u
BEGIN:VEVENT
DTSTART;TZID=America/New_York:20190318T080000
DTEND;TZID=America/New_York:20190329T170000
DTSTAMP:20260419T140131
CREATED:20190429T031144
LAST-MODIFIED:20190429T031144
UID:3025-1552896000-1553878800@ecgu.ca
SUMMARY:Bootcamp 2 jours sur mesure à MONCTON en mars 2020
DESCRIPTION:NOTE: Les dates précises du cours seront affichées ultérieurement.\n\nNotre nouveau cours ECG-u sur mesure! Le contenu sera extrait de ces 21 heures de cours pour obtenir 14 heures des sujets les plus en demande parmi les participants.\n\nC0-Directeurs du cours:\n\nDominic Larose MD\nDavid Paré MD\nAlain Vadeboncoeur MD\n\nCoût de l’inscription à l’atelier ECG-u pour deux jours:\n– 517 $ + taxes pour les médecins\n– 769 $ + taxes pour les résidents et les autres professionnels.\n\nLes coûts comprennent:\n\n \tL'inscription à l'atelier pour deux journées\n \tLe cahier de formation de cet atelier (de même qu'en format PDF avant le cours)\n \tLa matériel pertinent (compas\, laser\, crayons)\n \tLe document de référence de l'atelier en format PDF\n \tLes crédits de catégorie 1 (pour la participation à la journée)\n \tLes crédits de la section 3 (selon le travail effectué par le participant) incluant les pré-tests et post-test et leurs corrigés\n \tLe café à l'arrivée\, les pauses-café et le repas du midi\n\nSi vous êtes intéressé(e) par ce cours\, écrivez-nous à ecgu.ca@gmail.com et n'hésitez pas à remplir le sondage suivant\, pour construire le cours du mesure: https://fr.surveymonkey.com/r/MONCTON2020 \n\nJusqu'à 14 heures de formation continue\, pour 14 crédits de catégorie 1 + 10 crédits de catégorie 3.\n\nInscription à venir.\n\nVous pouvez même participer vous-mêmes à la construction du cours (les 2/3 des sujets seront choisis) en répondant cliquant sur ce lien et en répondant au sondage lié.\n\nCours destiné aux médecins d'urgence\, aux hospitalistes\, aux intensivistes\, aux MD de soins aigus et aux résidents des différents programmes. Les autres professionnels de la santé peuvent s'inscrire sous le tarif des résidents.\n\n\n\n07:00\nA\nECG-u: ISCHÉMIE... et ses amies !\n\n\n00:45\n1\nDx ECG du syndrome coronarien SCA-\n\n\n01:10\n2\nApproche clinique du syndrome coronarien aigu à l'urgence\n\n\n00:35\n3\nDx ECG malins et bénins F+ de SCA (onde T et segment ST)\n\n\n00:50\n4\nDx ECG de l'infarctus aigu (Onds T hyperaigues\, ST+\, critères de gravité)\n\n\n01:05\n5\nApproche clinique de l'infarctus aigu à l'urgence\n\n\n00:40\n6\nDx ECG de l'infarctus aigu à ne pas manquer (IM inf\, post\, BBGC\, PM\, BBDC\, etc)\n\n\n00:30\n7\nDx ECG de la péricardite et de la repolarisation précoce\n\n\n01:05\n8\nApproche clinique de la péricardite à l'urgence\n\n\n\n\n\n\n\n07:00\nB\nECG-u: VITE... et lent !\n\n\n00:30\n9\nDX ECG des blocs AV et bradycardies\n\n\n00:50\n10\nTX des blocs AV et bradycardies et utilisation du cardiostimulateur externe\n\n\n00:25\n11\nDX ECG systémiques (électrolytes\, intox\, systémiques)\n\n\n00:20\n12\nTx de l'hyperkaliémie à l'urgence\n\n\n00:35\n13\nDX ECG des troubles du cardiostimulateur pour urgentos\n\n\n00:45\n14\nTX des troubles du cardiostimulateur et du défibrillateur pour urgentos\n\n\n00:45\n15\nDX ECG des tachycardies à QRS étroit\n\n\n00:40\n16\nTX des TSV et TAP\n\n\n00:15\n17\nDX ECG de la FA avec WPW\n\n\n00:20\n18\nTx de la FA instable avec WPW et approche urgentos du WPW\n\n\n01:15\n19\nTX complet de la FA et du flutter incluant ACO\n\n\n\n\n\n\n\n07:00\nC\nECG-u: GRAVE... et urgent !\n\n\n01:05\n20\nApproche clinique de l'Insuffisance cardiaque\n\n\n00:30\n21\nApproche clinique de la syncope\n\n\n00:15\n22\nDx ECG du syndrome de Brugada pour urgentos\n\n\n00:10\n23\nApproche du syndrome de Brugada pour urgentos\n\n\n00:15\n24\nDX ECG du QT long\n\n\n00:30\n25\nTX des torsades de pointes et prise en charge du QT long\n\n\n01:10\n26\nApproche clinique du choc cardiogénique\n\n\n00:30\n27\nDX ECG des tachycardies à QRS large\n\n\n01:10\n28\nTX des tachycardies à QRS larges et fonctionnement du défibrillateur interne\n\n\n01:05\n29\nApproche clinique de la dissection aortique\n\n\n\nPour informations: ecgu.ca@gmail.com
URL:https://ecgu.ca/event/bootcamp-2-jours-sur-mesure-a-moncton-en-mars-2020/
LOCATION:Moncton\, Nouveau-Brunswick\, Canada
END:VEVENT
END:VCALENDAR