BEGIN:VCALENDAR
VERSION:2.0
PRODID:-//ECG-u - ECPv4.2.6//NONSGML v1.0//EN
CALSCALE:GREGORIAN
METHOD:PUBLISH
X-WR-CALNAME:ECG-u
X-ORIGINAL-URL:https://ecgu.ca
X-WR-CALDESC:Events for ECG-u
BEGIN:VEVENT
DTSTART;TZID=Africa/Abidjan:20161112T080000
DTEND;TZID=Africa/Abidjan:20161113T170000
DTSTAMP:20260420T124153
CREATED:20160701T032640
LAST-MODIFIED:20170630T155811
UID:846-1478937600-1479056400@ecgu.ca
SUMMARY:Bootcamp 2016 des résidents ECG-u 1+2\, les 12-13 novembre 2016. COMPLET MERCI!
DESCRIPTION:Montréal: Bootcamp 2016 des résidents ECG-u 1+2\, les 12-13 novembre 2016. COMPLET MERCI! Pour votre mettre sur une liste d'attente: ecgu.ca@gmail.com\nCet atelier de 2 jours est organisé par Dr Steven Allen\nLieu du cours: Montréal – Nouvelle hotel de Montréal
URL:https://ecgu.ca/event/bootcamp-2016-des-residents-ecg-u-12-les-17-18-novembre-2016/
LOCATION:1740 Boulevard René-Lévesque O\, Montréal\, Québec\, H3H1R3\, Canada
END:VEVENT
END:VCALENDAR