BEGIN:VCALENDAR
VERSION:2.0
PRODID:-//ECG-u - ECPv4.2.6//NONSGML v1.0//EN
CALSCALE:GREGORIAN
METHOD:PUBLISH
X-WR-CALNAME:ECG-u
X-ORIGINAL-URL:https://ecgu.ca
X-WR-CALDESC:Events for ECG-u
BEGIN:VEVENT
DTSTART;TZID=America/New_York:20180913T080000
DTEND;TZID=America/New_York:20180914T170000
DTSTAMP:20260419T210949
CREATED:20180604T045737
LAST-MODIFIED:20180805T221813
UID:2179-1536825600-1536944400@ecgu.ca
SUMMARY:Bootcamp 2018 - Résidents - Réseau UdeM - 13 & 14 septembre 2018 - COMPLET MERCI!
DESCRIPTION:Bootcamp du Programme ECG-u 2018 - Réseau UdeM - les 13 & 14 septembre 2018\nCet atelier de 2 jours est organisé par Dre Flavie Turpin\nTarif: Résidents: 495.76 $ + Tx\nChoisir UM-R 2018 dans le module d'inscription\nLieu du cours: Montréal\, Nouvel Hotel\nLE COURS EST MAINTENANT COMPLET!\nNous vous invitons à vous inscrire aux cours d'Ottawa (20-21 septembre)\, de Montréal (12-13 novembre). Ces deux cours sont organisés par des résidents de ces programmes\, sont donnés en français et sont ouverts à toutes et à tous les résidents.\nVous pouvez également vous inscrire à toute formation ECG-u future disponible sur le site. 
URL:https://ecgu.ca/event/bootcamp-2018-residents-reseau-udem-13-14-septembre-2018/
LOCATION:1740 Boulevard René-Lévesque O\, Montréal\, Québec\, H3H1R3\, Canada
END:VEVENT
END:VCALENDAR