BEGIN:VCALENDAR
VERSION:2.0
PRODID:-//ECG-u - ECPv4.2.6//NONSGML v1.0//EN
CALSCALE:GREGORIAN
METHOD:PUBLISH
X-WR-CALNAME:ECG-u
X-ORIGINAL-URL:https://ecgu.ca
X-WR-CALDESC:Events for ECG-u
BEGIN:VEVENT
DTSTART;TZID=America/New_York:20181129T080000
DTEND;TZID=America/New_York:20181130T170000
DTSTAMP:20260419T225224
CREATED:20180628T030259
LAST-MODIFIED:20181017T144207
UID:2222-1543478400-1543597200@ecgu.ca
SUMMARY:Bootcamp Programme ECG-u (1+2 intégrés) à Sainte-Foy - 29-30 novembre 2018
DESCRIPTION:Bootcamp 2018 - Lévis-Québec - les 29-30 novembre 2018 à Sainte-Foy\nCet atelier de 2 jours est organisé par Dr David Thomassin\nTarif: Résidents: 495 $ + Tx (Qc) *\nTarif: Patrons: 743 $ + Tx (Qc)\n\nMAINTENANT OFFERT À LA JOURNÉE! (voir l'horaire des journées)\nTarif à la journée: Résidents: 291 $ + Tx (Qc) *\nTarif à la journée: Patrons: 430 $ + Tx (Qc)\n\nPour deux journées: Choisir SFOY-R-2018 (résidents) ou SFOY-P-2018 (Patrons) dans le module d'inscription\n\nPour une journée choisir:\n\n \tSFOY-R-29 ou SFOY-R-3o pour les résidents et autres professionnels\nSFOY-P-29 ou SFOY-P-3o pour les patrons\n\nLieu du cours: HOTEL TRAVELODGE\, Sainte-Foy. 3125 Boulevard Hochelaga\, Québec\, QC G1W 2P9 \n\n
URL:https://ecgu.ca/event/bootcamp-a-levis-29-30-novembre-2018/
LOCATION:3125 Hochelaga Blvd Sainte-Foy\, Quebec canada \, Québec\, Québec\, G1W 2P9\, Canada
CATEGORIES:Cours
END:VEVENT
END:VCALENDAR