BEGIN:VCALENDAR
VERSION:2.0
PRODID:-//ECG-u - ECPv4.2.6//NONSGML v1.0//EN
CALSCALE:GREGORIAN
METHOD:PUBLISH
X-WR-CALNAME:ECG-u
X-ORIGINAL-URL:https://ecgu.ca
X-WR-CALDESC:Events for ECG-u
BEGIN:VEVENT
DTSTART;TZID=America/New_York:20180425T080000
DTEND;TZID=America/New_York:20180426T170000
DTSTAMP:20260419T172409
CREATED:20180110T191812
LAST-MODIFIED:20180411T025935
UID:2021-1524643200-1524762000@ecgu.ca
SUMMARY:Bootcamp ECG-u 1+2 en Montérégie les 25-26 avril 2018
DESCRIPTION:COURS COMPLET! MERCI! Si vous voulez vous mettre sur une liste d'attente\, écrivez à ecgu.ca@gmail.com en spécifiant la ou les journées souhaitée(s) et nous communiquerons avec vous.\n\nBootcamp ECG-u 1+2 en Montérégie les 25-26 avril 2018\nOrganisation locale par Dre Justine Faubert-Laurin\nDestiné aux médecins et résidents \nCours de deux jours sur le site magnifique de l'Hôtel Trois-Tilleuls de Michel Barrette\nhttps://www.lestroistilleuls.com/fr/accueil/\n\n \n\n\n\n \n\nPour des chambres: il n'y en pas de disponibles mardi soir. Communiquez avec  kducharme@lestroistilleuls.com  pour des chambres le mercredi soir et pour être dirigé vers un hébergement à proximité au besoin.\n\nLa première journée sera surtout formé des modules du cours ECG-u 1\, et le second jour\, surtout des modules du cours ECG-u 2. Choisir 3TIL25 ou 3TIL25-R ou encore 3TIL26 ou 3TIL26-R.  Les cours ayant été fusionnés\, l'horaire prévu des 2 journées est le suivant (l'horaire exact pourra varier un peu puisque c'est la première fois que nous le donnons sous cette forme):\n\n
URL:https://ecgu.ca/event/bootcamp-ecg-u-12-monteregie-est-les-25-26-avril-2018/
LOCATION:290 Rue Richelieu\, Saint-Marc-sur-Richelieu\, Québec\, J0L 2E0
END:VEVENT
END:VCALENDAR