BEGIN:VCALENDAR
VERSION:2.0
PRODID:-//ECG-u - ECPv4.2.6//NONSGML v1.0//EN
CALSCALE:GREGORIAN
METHOD:PUBLISH
X-WR-CALNAME:ECG-u
X-ORIGINAL-URL:https://ecgu.ca
X-WR-CALDESC:Events for ECG-u
BEGIN:VEVENT
DTSTART;TZID=Africa/Abidjan:20160921T080000
DTEND;TZID=Africa/Abidjan:20160922T170000
DTSTAMP:20260421T215317
CREATED:20160304T022955
LAST-MODIFIED:20170630T155855
UID:724-1474444800-1474563600@ecgu.ca
SUMMARY:CHUM ECG-u 1+2 : 21-22 septembre 2016 - PRESQUE COMPLET!
DESCRIPTION:Montréal\, Bootcamp ECG-u 1+2\, les 21-22 septembre 2016.\nAu choix: s'inscrire aux 2 journées ou bien le 21 (ECG-u 1) ou le 22 (ECG-u 2).\nCet atelier de 2 jours est organisé par Dr Martine Labelle. Il reste deux place pour le 21!\nPour vous inscrire: allez au formulaire d'inscription et choisir forfait CHUM 21 (475$) ou CHUM21-R (325$)\nLieu du cours: Montréal\, DÉPLACÉ: NOUVEL HOTEL DE MONTRÉAL.
URL:https://ecgu.ca/event/chum-ecg-u-12-21-22-septembre-2016/
LOCATION:1740 Boulevard René-Lévesque O\, Montréal\, Québec\, H3H1R3\, Canada
END:VEVENT
END:VCALENDAR