BEGIN:VCALENDAR
VERSION:2.0
PRODID:-//ECG-u - ECPv4.2.6//NONSGML v1.0//EN
CALSCALE:GREGORIAN
METHOD:PUBLISH
X-WR-CALNAME:ECG-u
X-ORIGINAL-URL:https://ecgu.ca
X-WR-CALDESC:Events for ECG-u
BEGIN:VEVENT
DTSTART;TZID=America/New_York:20150917T080000
DTEND;TZID=America/New_York:20150917T170000
DTSTAMP:20260421T233101
CREATED:20150605T064701
LAST-MODIFIED:20150605T064701
UID:410-1442476800-1442509200@ecgu.ca
SUMMARY:CHUS - Sherbrooke - 17 septembre 2015
DESCRIPTION:CHUS Sherbrooke le 17 septembre 2015\nCe cours est organisé par Dr Frédéric Branch.\nPour vous inscrire: allez directement au formulaire d’inscription et choisir forfait CHUS (413.13 + taxes = 475$) ou CHUS-résidents (326.16 + taxes = 375$). Les professionnels de la santé non-MD prennent le tarif résidents.\nSalle du cours:  à venir (CHUS Fleurimont)\n 
URL:https://ecgu.ca/event/chus-sherbrooke-17-septembre-2015/
LOCATION:Québec\, Canada
END:VEVENT
END:VCALENDAR