BEGIN:VCALENDAR
VERSION:2.0
PRODID:-//ECG-u - ECPv4.2.6//NONSGML v1.0//EN
CALSCALE:GREGORIAN
METHOD:PUBLISH
X-WR-CALNAME:ECG-u
X-ORIGINAL-URL:https://ecgu.ca
X-WR-CALDESC:Events for ECG-u
BEGIN:VEVENT
DTSTART;TZID=America/New_York:20151021T080000
DTEND;TZID=America/New_York:20151021T170000
DTSTAMP:20260421T215235
CREATED:20150605T064844
LAST-MODIFIED:20150605T064844
UID:413-1445414400-1445446800@ecgu.ca
SUMMARY:Cité de la Santé - 21 octobre 2015 - Laval
DESCRIPTION:Cité de la Santé mercredi le 21 octobre 2015\n\nCe cours est organisé par Dre Emmanuelle Deneault.\nPour vous inscrire: allez directement au formulaire d’inscription et choisir forfait Cité (413.13 + taxes = 475$) ou CHUS-résidents (326.16 + taxes = 375$). Les autres professionnels de la santé prennent le tarif résidents.\nSalle du cours:  à venir (Cité de la Santé).
URL:https://ecgu.ca/event/cite-de-la-sante-21-octobre-2015-laval/
END:VEVENT
END:VCALENDAR