BEGIN:VCALENDAR
VERSION:2.0
PRODID:-//ECG-u - ECPv4.2.6//NONSGML v1.0//EN
CALSCALE:GREGORIAN
METHOD:PUBLISH
X-WR-CALNAME:ECG-u
X-ORIGINAL-URL:https://ecgu.ca
X-WR-CALDESC:Events for ECG-u
BEGIN:VEVENT
DTSTART;TZID=Africa/Abidjan:20161117T080000
DTEND;TZID=Africa/Abidjan:20161118T170000
DTSTAMP:20260420T110732
CREATED:20160627T034143
LAST-MODIFIED:20161110T061728
UID:835-1479369600-1479488400@ecgu.ca
SUMMARY:ECG-u 1 + 2: Bootcamp de deux jours à Rimouski!
DESCRIPTION:Rimouski: Bootcamp ECG-u 1+2\, les 17-18 novembre 2016.\nCet atelier de 2 jours est organisé par Dr Vincent Moreau.\nPour vous inscrire: allez au formulaire d’inscription et choisir forfait Rimouski (726.24 $ + taxes = 835$) ou pour les résidents Rimouski-R (495.76$ + taxes = 570$).\nLes autres professionnels de la santé prennent le tarif résidents.\nAttention! On peut maintenant s'inscrire à l'une ou l'autre des journées\, pour le tarif de 413.13 + taxes = 475$ pour les médecins ou bien de 282.67$ + taxes = 325$ pour les résidents et autres professionnels.\nChoisissez Rim17 ou Rim18 ou bien pour les résidents et autres professionnels: Rim17-R ou Rim18-R. \nLieu du cours: Hotel Rimouski\, 225 boul. René-Lepage Est\nRimouski\, QC G5L 1P2\n418-727-4631 ou 1-800-463-0755\n418-725-5725 (fax)\nGoogle MAPS
URL:https://ecgu.ca/event/ecg-u-1-2-bootcamp-de-deux-jours-a-rimouski/
LOCATION:Québec\, Canada
END:VEVENT
END:VCALENDAR