BEGIN:VCALENDAR
VERSION:2.0
PRODID:-//ECG-u - ECPv4.2.6//NONSGML v1.0//EN
CALSCALE:GREGORIAN
METHOD:PUBLISH
X-WR-CALNAME:ECG-u
X-ORIGINAL-URL:https://ecgu.ca
X-WR-CALDESC:Events for ECG-u
BEGIN:VEVENT
DTSTART;TZID=Africa/Abidjan:20160929T080000
DTEND;TZID=Africa/Abidjan:20160929T170000
DTSTAMP:20260421T194828
CREATED:20160227T043954
LAST-MODIFIED:20160928T052955
UID:713-1475136000-1475168400@ecgu.ca
SUMMARY:ECG-u 2: ARYTHMIES - Hôpital de Saint-Jean. COMPLET! MERCI!
DESCRIPTION:Saint-Jean\, ECG-u 2: 29 septembre 2016.\nCet atelier ECG-u 2\, Tx des arythmies\, est organisé par Dr Anne Mongeon. COMPLET! MERCI! Salle du cours: Salle #567 Au CLSC Vallée des Forts 978\, boulevard du Séminaire Nord Saint-Jean-sur-Richelieu (Québec) J3A 1E5
URL:https://ecgu.ca/event/ecg-u-2-arythmies-hopital-de-saint-jean/
LOCATION:Saint-Jean sur Richelieu\, Québec\, Canada
END:VEVENT
END:VCALENDAR