BEGIN:VCALENDAR
VERSION:2.0
PRODID:-//ECG-u - ECPv4.2.6//NONSGML v1.0//EN
CALSCALE:GREGORIAN
METHOD:PUBLISH
X-WR-CALNAME:ECG-u
X-ORIGINAL-URL:https://ecgu.ca
X-WR-CALDESC:Events for ECG-u
BEGIN:VEVENT
DTSTART;TZID=America/New_York:20221003T080000
DTEND;TZID=America/New_York:20221003T170000
DTSTAMP:20260420T105406
CREATED:20221003T005355
LAST-MODIFIED:20221003T005355
UID:6456-1664784000-1664816400@ecgu.ca
SUMMARY:ECG-u est à l'ACEP!
DESCRIPTION:Hé les participants à #ACEP\, n'oubliez pas de voir notre kiosque ECG-u\, désormais disponible aux #USA\, avec @md_pollack et PGY Antoine Dumas. Boot #1539 !\n\n
URL:https://ecgu.ca/event/ecg-u-est-a-lacep/
END:VEVENT
END:VCALENDAR