BEGIN:VCALENDAR
VERSION:2.0
PRODID:-//ECG-u - ECPv4.2.6//NONSGML v1.0//EN
CALSCALE:GREGORIAN
METHOD:PUBLISH
X-WR-CALNAME:ECG-u
X-ORIGINAL-URL:https://ecgu.ca
X-WR-CALDESC:Events for ECG-u
BEGIN:VEVENT
DTSTART;TZID=America/New_York:20191105T080000
DTEND;TZID=America/New_York:20191105T170000
DTSTAMP:20260419T174702
CREATED:20190522T031828
LAST-MODIFIED:20191024T180537
UID:3116-1572940800-1572973200@ecgu.ca
SUMMARY:COMPLET! ECG-u: ISCHÉMIE... et ses amies à Québec le 5 novembre 2019 !
DESCRIPTION:Notre nouveau cours intégré DX et TX: ISCHÉMIE... et ses amies!\n\nCours destiné aux médecins d'urgence\, aux hospitalistes\, aux intensivistes\, aux MD de soins aigus et aux résidents des différents programmes. Les autres professionnels de la santé peuvent s'inscrire sous le tarif des résidents.\n   \n\n\n 8h00 à 17h00\nA\nECG-u: ISCHÉMIE... et ses amies !\n\n\n00:45\n1\nDx ECG du syndrome coronarien SCA-\n\n\n01:10\n2\nApproche clinique du syndrome conarien aigu à l'urgence\n\n\n00:35\n3\nDx ECG malins et bénins F+ de SCA (onde T et segment ST)\n\n\n00:50\n4\nDx ECG de l'infarctus aigu (Onds T hyperaigues\, ST+\, critères de gravité)\n\n\n01:05\n5\nApproche clinique de l'infarctus aigu à l'urgence\n\n\n00:40\n6\nDx ECG de l'infarctus aigu à ne pas manquer (IM inf\, post\, BBGC\, PM\, BBDC\, etc)\n\n\n00:30\n7\nDx ECG de la péricardite et de la repolarisation précoce\n\n\n01:05\n8\nApproche clinique de la péricardite à l'urgence\n\n\n\nC0-Directeurs du cours:\n\nDominic Larose MD\nDavid Paré MD\nAlain Vadeboncoeur MD\n\nCoût de l’inscription à l’atelier ECG-u d’une journée:\n– 447\,92 $ + taxes pour les médecins\n– 308\,76 $ + taxes pour les résidents et les autres professionnels.\n\nLes coûts comprennent:\n\n \tL'inscription à l'atelier d'une journée\n \tLe cahier de formation de cet atelier (de même qu'en format PDF avant la journée du cours)\n \tLa matériel pertinent (compas\, laser\, crayons)\n \tLe document de référence de l'atelier en format PDF\n \tLes crédits de catégorie 1 (pour la participation à la journée)\n \tLes crédits de la section 3 (selon le travail effectué par le participant) incluant les pré-tests et post-test et leurs corrigés\n \tLe café à l'arrivée\, les pauses-café et le repas du midi\n\nChoisir: QC-2019 (patrons) ou QC-R-2019 (résidents et autres professionnels)\n\n7 heures de formation continue\, 7 crédits de catégorie 1 + 5 crédits de catégorie 3.\n\nPour s'inscrire: https://ecgu.ca/inscription/ \n\nPour informations: ecgu.ca@gmail.com
URL:https://ecgu.ca/event/ecg-u-ischemie-et-ses-amies-a-quebec-le-5-novembre-2019/
LOCATION:3125 Hochelaga Blvd Sainte-Foy\, Quebec canada \, Québec\, Québec\, G1W 2P9\, Canada
END:VEVENT
END:VCALENDAR