BEGIN:VCALENDAR
VERSION:2.0
PRODID:-//ECG-u - ECPv4.2.6//NONSGML v1.0//EN
CALSCALE:GREGORIAN
METHOD:PUBLISH
X-WR-CALNAME:ECG-u
X-ORIGINAL-URL:https://ecgu.ca
X-WR-CALDESC:Events for ECG-u
BEGIN:VEVENT
DTSTART;TZID=America/New_York:20191120T080000
DTEND;TZID=America/New_York:20191120T170000
DTSTAMP:20260419T195245
CREATED:20190411T003034
LAST-MODIFIED:20191007T031327
UID:2818-1574236800-1574269200@ecgu.ca
SUMMARY:ECG-u: VITE... et lent! À Trois-Rivières le 20 novembre COMPLET! MERCI!
DESCRIPTION:•Notre nouveau cours intégré DX et TX: VITE... et lent!\n\nCours destiné aux médecins d'urgence\, aux hospitalistes\, aux intensivistes\, aux MD de soins aigus et aux résidents des différents programmes. Les autres professionnels de la santé peuvent s'inscrire sous le tarif des résidents.\n   \n\n\n8h00 à 17h00\nB\nECG-u: VITE... et lent !\n\n\n00:30\n9\nDX ECG des blocs AV et bradycardies\n\n\n00:50\n10\nTX des blocs AV et bradycardies et utilisation du cardiostimulateur externe\n\n\n00:25\n11\nDX ECG systémiques (électrolytes\, intox\, systémiques)\n\n\n00:20\n12\nTx de l'hyperkaliémie à l'urgence\n\n\n00:35\n13\nDX ECG des troubles du cardiostimulateur pour urgentos\n\n\n00:45\n14\nTX des troubles du cardiostimulateur et du défibrillateur pour urgentos\n\n\n00:45\n15\nDX ECG des tachycardies à QRS étroit\n\n\n00:40\n16\nTX des TSV et TAP\n\n\n00:15\n17\nDX ECG de la FA avec WPW\n\n\n00:20\n18\nTx de la FA instable avec WPW et approche urgentos du WPW\n\n\n01:15\n19\nTX complet de la FA et du flutter incluant ACO\n\n\n\nC0-Directeurs du cours:\n\nDominic Larose MD\nDavid Paré MD\nAlain Vadeboncoeur MD\n\nCoût de l’inscription à l’atelier ECG-u d’une journée:\n– 447\,92 $ + taxes pour les médecins\n– 308\,76 $ + taxes pour les résidents et les autres professionnels.\n\nLes coûts comprennent:\n\n \tL'inscription à l'atelier d'une journée\n \tLe cahier de formation de cet atelier (de même qu'en format PDF avant la journée du cours)\n \tLa matériel pertinent (compas\, laser\, crayons)\n \tLe document de référence de l'atelier en format PDF\n \tLes crédits de catégorie 1 (pour la participation à la journée)\n \tLes crédits de la section 3 (selon le travail effectué par le participant) incluant les pré-tests et post-test et leurs corrigés\n \tLe café à l'arrivée\, les pauses-café et le repas du midi\n\nChoisir: TR2019 (patrons) ou R-TR2019 (résidents et autres professionnels)\n\n7 heures de formation continue\, 7 crédits de catégorie 1 + 5 crédits de catégorie 3.\n\nPour s'inscrire: https://ecgu.ca/inscription/ \n\nPour informations: ecgu.ca@gmail.com
URL:https://ecgu.ca/event/ecg-u-vite-et-lent-a-trois-rivieres-le-20-novembre-2019/
LOCATION:10911 Rue Notre Dame O\, \, Trois-Rivières\, Trois-Rivières\, Québec\, G9B 6V8\, Canada
END:VEVENT
END:VCALENDAR