BEGIN:VCALENDAR
VERSION:2.0
PRODID:-//ECG-u - ECPv4.2.6//NONSGML v1.0//EN
CALSCALE:GREGORIAN
METHOD:PUBLISH
X-WR-CALNAME:ECG-u
X-ORIGINAL-URL:https://ecgu.ca
X-WR-CALDESC:Events for ECG-u
BEGIN:VEVENT
DTSTART;TZID=America/Montreal:20160603T080000
DTEND;TZID=America/Montreal:20160603T170000
DTSTAMP:20260421T215235
CREATED:20151210T055758
LAST-MODIFIED:20151227T191828
UID:612-1464940800-1464973200@ecgu.ca
SUMMARY:ECGu-1 : CAEP Pre-conference (English)
DESCRIPTION:CAEP ECG-u 1 workshop\, Quebec\, June 3rd\, 2016 (english)\nThis one-day course is organized as a preconference byCAEP. To register: go directly to registration and choose CAEP-June3 (413.13 + taxes = 475$) or if you’re PGY: CAEP-June3-PGY (282.67$ + taxes = 325$). Other healthcare provider choose PGY fare. English course.\n Cours location: Hilton center\, Quebec downtown. 
URL:https://ecgu.ca/event/ecgu-1-caep-pre-conference-june-3rd-quebec-qc/
END:VEVENT
END:VCALENDAR