BEGIN:VCALENDAR
VERSION:2.0
PRODID:-//ECG-u - ECPv4.2.6//NONSGML v1.0//EN
CALSCALE:GREGORIAN
METHOD:PUBLISH
X-WR-CALNAME:ECG-u
X-ORIGINAL-URL:https://ecgu.ca
X-WR-CALDESC:Events for ECG-u
BEGIN:VEVENT
DTSTART;TZID=America/New_York:20230503T080000
DTEND;TZID=America/New_York:20230503T170000
DTSTAMP:20260421T084638
CREATED:20221220T061733
LAST-MODIFIED:20221231T041231
UID:6642-1683100800-1683133200@ecgu.ca
SUMMARY:ECGU155-GRAVE-HDL
DESCRIPTION:Cours réservé pour l'équipe de l'HDL\n\nSujets: Insuffisance cardiaque aigue\, Brugada\, Syncope\, QT long\, Choc cardiogénique\, Tachy QRS large\, Défibrillateur implantable\, post-ACR\, Dissection aortique!\n\nLien vers la page d'information: https://ecgu.ca/ecgu-hdl-grave-et-urgent-3-mai-2023-sur-place-8h00-16h45/
URL:https://ecgu.ca/event/ecgu-grave-hdl/
END:VEVENT
END:VCALENDAR