BEGIN:VCALENDAR
VERSION:2.0
PRODID:-//ECG-u - ECPv4.2.6//NONSGML v1.0//EN
CALSCALE:GREGORIAN
METHOD:PUBLISH
X-WR-CALNAME:ECG-u
X-ORIGINAL-URL:https://ecgu.ca
X-WR-CALDESC:Events for ECG-u
BEGIN:VEVENT
DTSTART;TZID=America/New_York:20220420T080000
DTEND;TZID=America/New_York:20220420T170000
DTSTAMP:20260420T130123
CREATED:20211016T033753
LAST-MODIFIED:20220323T052021
UID:5598-1650441600-1650474000@ecgu.ca
SUMMARY:ECGU135: VITE... et lent 😉
DESCRIPTION:Notre 135e journée de formation ECG-u: cours intégré ECG\, DX et TX: VITE... et lent 😉\n\nCours offert à tous les médecins\, résidents et autres professionnels intéressés\n\nNOUS VOUS LIVRERONS UNE FORMATION WEB DE QUALITÉ EN FORMAT INTERACTIF SUR LA PLATEFORME ZOOM (https://zoom.us/) QUE VOUS POURREZ SUIVRE DE VOTRE DOMICILE. \nLE DOCUMENT D'INFORMATION POUR LE BRANCHEMENT  ZOOM EST SOUS LE LIEN SUIVANT.\nPage d'inscription: https://ecgu.ca/inscription/ \n\n \t\nObjectifs : VITE… ET LENT!\nAu terme de cet atelier interactif basé sur des ECG et des cas cliniques\, la participante ou le participant:\nAnalysera correctement les ECGs de brady et tachyarythmies et systémiques\nTraitera adéquatement les patients avec brady-arythmies et blocs AV\nDétectera les anomalies des PMP et gèrera les patients avec certaines dysfonctions de PMP\nTraitera de manière optimale les patients avec TSV-nodale et TAP\nAppliquera un plan de prise en charge approprié pour les patients en FA / Flutter +/- WPW\n\n\n\n\n \n\n \n\n \n\n \n\n \n\n \n\n \n\n \n\n \n\n \n\n \n\n \n\nCours destiné aux médecins de famille\, médecins d'urgence spécialisés\, hospitalistes\, intensivistes\, internistes\, médecins en soins aigus\, anesthésistes\, cardiologues\, etc.\, et aux résidents de ces différents programmes de même qu'aux autres professionnels de la santé intéressés. Les autres professionnels de la santé peuvent s'inscrire sous le tarif des résidents.\n\nCoût de l’inscription à l’atelier ECG-u d’une journée:\n\n– 460 $ + taxes pour les médecins\n– 317 $ + taxes pour les résidents et les autres professionnels.\n\nLes coûts comprennent:\n\n \tL'inscription à l'atelier d'une journée\n \tLe cahier de formation de cet atelier en PDF\n \tLe document de référence de l'atelier en format PDF\n \tLes crédits de catégorie 1 (pour la participation à la journée)\n \tLes crédits de la section 3 (selon le travail effectué par le participant) incluant les pré-tests et post-tests et leurs corrigés\n\nChoisir: (patrons) ou (résidents et autres professionnels)\n\nECGU135 : 530 / R-ECGU135 : 365\n\nPour s'inscrire: https://ecgu.ca/inscription/ \n\nPour informations: ecgu.ca@gmail.com
URL:https://ecgu.ca/event/ecgu135-vite-et-lent/
END:VEVENT
END:VCALENDAR