BEGIN:VCALENDAR
VERSION:2.0
PRODID:-//ECG-u - ECPv4.2.6//NONSGML v1.0//EN
CALSCALE:GREGORIAN
METHOD:PUBLISH
X-WR-CALNAME:ECG-u
X-ORIGINAL-URL:https://ecgu.ca
X-WR-CALDESC:Events for ECG-u
BEGIN:VEVENT
DTSTART;TZID=America/New_York:20221104T080000
DTEND;TZID=America/New_York:20221104T170000
DTSTAMP:20260420T092728
CREATED:20211016T034108
LAST-MODIFIED:20220810T172040
UID:5602-1667548800-1667581200@ecgu.ca
SUMMARY:ECGU142: VITE... et lent 😉 - reporté le 16 mars 2023
DESCRIPTION: \n\nNous sommes désolés\, le cours VITE... et lent prévu ici a été déplacé le 16 mars 2023 (LIEN POUR LE COURS).\n\nMerci de votre compréhension\n\n \tL'équipe EGC-u\n
URL:https://ecgu.ca/event/ecgu142-vite-et-lent/
END:VEVENT
END:VCALENDAR