BEGIN:VCALENDAR
VERSION:2.0
PRODID:-//ECG-u - ECPv4.2.6//NONSGML v1.0//EN
CALSCALE:GREGORIAN
METHOD:PUBLISH
X-WR-CALNAME:ECG-u
X-ORIGINAL-URL:https://ecgu.ca
X-WR-CALDESC:Events for ECG-u
BEGIN:VEVENT
DTSTART;TZID=America/New_York:20230405T080000
DTEND;TZID=America/New_York:20230405T170000
DTSTAMP:20260420T114035
CREATED:20221119T213728
LAST-MODIFIED:20221231T041656
UID:6543-1680681600-1680714000@ecgu.ca
SUMMARY:ECGU151 - ISCHÉMIE... et ses amies 😍 - 5 avril 2023
DESCRIPTION:Notre journée de formation ECG-u: cours intégré ECG\, DX et TX: ISCHÉMIE... et ses amies. 🥰\n\nDx ECG\, clinique et TX complet du SCA ST- et ST+ et des IMO\, DX des faux positifs de ST+ et ST-\, DX et TX complet de la péricardite à l'urgence.\n\nNOUS VOUS LIVRERONS UNE FORMATION WEB DE QUALITÉ EN FORMAT INTERACTIF SUR LA PLATEFORME ZOOM (https://zoom.us/) QUE VOUS POURREZ SUIVRE DE VOTRE DOMICILE. \nLE DOCUMENT D'INFORMATION POUR LE BRANCHEMENT EST SOUS LE LIEN SUIVANT.\nPage d'inscription: https://ecgu.ca/inscription/ \n\nObjectifs : ischémie… et ses amies:\n\nAu terme de cet atelier interactif basé sur des ECG\, la participante ou le participant:\n\n \tDiagnostiquera efficacement et sécuritairement les SCA avec ou sans ST+.\nAppliquera un diagnostic différentiel éclairé sur les conditions pouvant mimer les ECG SCA (péricardite\, repolarisation précoce\, EP\, HVG\, etc.).\nTraitera les cas de SCA (ST+ et ST-) et de péricardite selon les normes les plus récentes\n \tCours destiné aux médecins de famille\, médecins d'urgence spécialisés\, hospitalistes\, intensivistes\, internistes\, médecins en soins aigus\, anesthésistes\, cardiologues\, etc.\, et aux résidents de ces différents programmes de même qu'aux autres professionnels de la santé intéressés. Les autres professionnels de la santé peuvent s'inscrire sous le tarif des résidents.\n\nCours contamment mis à jour en fonction des dernières données de la littérature.\n\nCoût de l’inscription à l’atelier ECG-u d’une journée:\n\n– 460  $ + taxes pour les médecins\n– 317 $ + taxes pour les résidents et les autres professionnels.Les coûts comprennent:\n\n\n \tL'inscription à l'atelier d'une journée\n \tLe cahier de formation de cet atelier en format PDF\n \tLe document de référence complet de l'atelier en format PDF\n \tLes crédits de catégorie 1 (pour la participation à la journée)\n \tLes crédits de la section 3 (selon le travail effectué par le participant) incluant les pré-tests et post-test et leurs corrigés\n\nChoisir: ECGU151 (MD en pratique)/ R-ECGU151 (résidents et autres professionnels)\n\nACCRÉDITÉ!  Pour pour 7 heures de formation continue\, 7 crédits de catégorie 1 + 5 crédits de catégorie 3.\n\nPour s'inscrire: https://ecgu.ca/inscription/ \n\nPour informations: ecgu.ca@gmail.com\n\n(En demande pour 2023)\n\n
URL:https://ecgu.ca/event/ecgu150-ischemie-et-ses-amies-%f0%9f%98%8d/
END:VEVENT
END:VCALENDAR