BEGIN:VCALENDAR
VERSION:2.0
PRODID:-//ECG-u - ECPv4.2.6//NONSGML v1.0//EN
CALSCALE:GREGORIAN
METHOD:PUBLISH
X-WR-CALNAME:ECG-u
X-ORIGINAL-URL:https://ecgu.ca
X-WR-CALDESC:Events for ECG-u
BEGIN:VEVENT
DTSTART;TZID=America/New_York:20230217T080000
DTEND;TZID=America/New_York:20230217T170000
DTSTAMP:20260420T093425
CREATED:20221023T192714
LAST-MODIFIED:20241227T064557
UID:6496-1676620800-1676653200@ecgu.ca
SUMMARY:ECGU147 - MF2: Une autre journée au bureau! - sans ECG - 17 février 2023
DESCRIPTION:ECGU147 - UNE AUTRE JOURNÉE AU BUREAU! - MF2 pour la 1ère ligne\, basé sur des contenus cardiologiques top qualité et à jour ECG-u entièrement adaptés à des situations cliniques de 1ère ligne en bureau. En ZOOM. 🤓 \n\nSujets: Évaluer les palpitations\, insuffisance cardiaque en bureau\, évaluation et traitement des tachyarythmies\, suivi de la FA\, prévention secondaire MCAS et MAP\, retours d'ECGs\, retour de tests pour arythmie\,retour d'échos.\n\n(Note: MF1 n'est pas un pré-requis\, et ce cours ne comporte pas d'interprétation d'ECG)\nInscriptions: https://ecgu.ca/inscription/\nCommentaires complets des évaluations du cours du 21 octobre 2022:\n\n \tSlides magnifiques\n \tLe programme va changer ma pratique parce que je me fiais encore aux anciens guides\n \tExcellent format de support visuel et présentation dynamique\n \tLes conférenciers sont très agréables\, la conférence est stimulante est pertinente de A à Z ! Bravo.\n \tTrès belle gestion du temps\, spécialement pour un cours donné pour la première fois! Conférenciers dynamiques et avec de bonnes connaissances!\n \tOrganisé 4+\n \tTrès bonne synthèse de l'information! Orienté sur le concret. Bonnes questions.\n \tTrès bons résumés CONCRETS\, spécifiques au bureau\n \tGood guy comme d’habitude\n \tExcellente voix pour donner des formations!\n \tJ'adore ses blagues!\n \tTransmet bien ses connaissances\n \tPrésentations très claires\n \tBelle revue scientifique\n \tSuper !!! Référence résumée pour la pratique très appréciée !\n \tBonnes illustrations de cas\n\nPlan de la journée:\n \n\n\nAM (8h00 à 12h00) (incluant 20 minutes de pauses)\n\n\nBLOC 1 Palpitations: Visite au bureau d'un patient avec palpitations intermittent: évaluation - 45 min\n\n\nBloc 2 : Retour de quelques rapports avec tachyarythmies et conduites suggérées - 20 min\n\n\nBLOC 3: FA1: Patiente avec un épisode de FA sur Holter: quand et comment débuter et suivre l'anticoagulation - 45 min\n\n\nBloc 4 : Retour de quelques rapports d'échographie cardiaque et conduites suggérées - 20 min\n\n\nBLOC 5 L’insuffisance cardiaque systolique légèrement décompensée au bureau (bilan\, traitement\, optimisation\, suivi\, quand référer) - 45 min\n\n\nBloc 6: Retour de quelques rapports d'ECG avec blocs de branches et conduites suggérées - 20 min\n\n\nBLOC 7 Post-IM: Le suivi post infarctus de mon patient en bureau - Prévention secondaire\, quoi faire pour aider\, quels cibles atteindre? Comment gérer certaines suites non-cardiologiques? - 45 min\n\n\nDiner - 1 heure\n\n\n\n\n\nPM (13h00 à 16h30) (incluant 20 minutes de pause)\n\n\nBloc 8: Retour de quelques rapports d'échographie cardiaque et conduites suggérées - 20 min\n\n\nBLOC 9 IC2: L’insuffisance cardiaque diastolique au bureau (bilan\, traitement\, optimisation\, suivi\, quand référer) - 40 min\n\n\nBloc 10 : Retour de quelques rapports d'ECG avec HVG et ondes Q et conduites suggérées - 20 min\n\n\nBloc 11 FA2: Prise en charge de la FA au bureau : doit-on ralentir ou référer pour convertir en FA (évaluation\, traitement et suivi\, référence) - 40 min\n\n\nBloc 12 : Retour de quelques rapports avec tachyartyhmies et conduites suggérées - 20 min\n\n\nBloc 13: La maladies artérielle périphérique en bureau (évaluation\, traitement médical vs chirurgical\, suivi\, référence) - 40 min\n\n\n\nPour s'inscrire: https://ecgu.ca/inscription/\n\n \n\n\n\nC0-Directeurs scientifiques et instructeurs du cours\nDominic Larose MD\nDavid Paré MD\nFrédéric Picotte MD\nAlain Vadeboncoeur MD\n\nCoordonnateur et producteur du cours\nAlain Vadeboncoeur MD\n\nCoût de l’inscription à l’atelier ECG-u d’une journée:\n– 460  $ + taxes pour les médecins\n– 317 $ + taxes pour les résidents et les autres professionnels.\n\nMédecins en pratique\, choisissez: ECGU147\n\nRésidents et autres professionnels\, choisissez: R-ECGU147\n\nNOUS VOUS LIVRERONS UNE FORMATION WEB DE QUALITÉ EN FORMAT INTERACTIF SUR LA PLATEFORME ZOOM (https://zoom.us/) QUE VOUS POURREZ SUIVRE DE VOTRE DOMICILE. \nLE DOCUMENT D'INFORMATION POUR LE BRANCHEMENT EST SOUS LE LIEN SUIVANT.\nCours ECGU-MF2 ♡ - Une autre journée au bureau! - OBJECTIFS\n\nBloc 1 - Palpitations en bureau\n\n \tConnaître les causes des palpitations\n \tPlanifier les investigations requises\n\nBloc 2 - Retours de tests avec certaines tachycardies (A)\n\n \tÉvaluer adéquatement les résultats d’examens\n \tDécider d’une conduite initiale\n\nBloc 3 - FA - Anticoagulation\n\n \tÉvaluer le risque thromboembolique\n \tAppliquer les indications et contre-indications des anticoagulants oraux\n \tAjuster l’anticoagulation en fonction de l’âge et de la fonction rénale\n\nBloc 4 - Rapport ETT anormal avec hypertension pulmonaire ou dilatation de la racine aortique\n\n \tAppliquer la prise en charge recommandée selon le rapport d’ETT\n \tRéférer les patients au moment opportun en fonction des guides de pratique\n\nBloc 5 - Mon patient insuffisant cardiaque systolique au bureau\n\n \tÉvaluer l’état volémique\n \tPlanifier les investigations requises\n \tOptimiser le traitement selon les guides de pratique les plus récents\n\nBloc 6 - Bloc de branche D et G à l’ECG: que faire?\n\n \tAppliquer la prise en charge recommandée selon le rapport d’ECG avec BBD ou BBG\n \tPlanifier l’investigation et le suivi\n\nBloc 7 - Prévention 2e de la MCAS\n\n \tPrendre en charge certaines complications post-SCA\n \tGérer les anti-plaquettaires selon le risque saignement\n \tPrévenir les événements futurs en visant les cibles de prévention secondaire\n\nBloc 8 - Rapport ETT anormal avec maladie mitrale ou aortique\n\n \tAppliquer la prise en charge recommandée selon le rapport d’ETT\n \tRéférer les patients au moment opportun en fonction des guides de pratique\n\nBloc 9  - Mon patient insuffisant cardiaque diastolique au bureau\n\n \tMaîtriser les différences avec l’insuffisance systolique\n \tPlanifier les investigations requises\n \tOptimiser le traitement selon les guides de pratique les plus récents\n\nBloc 10 - HVG et ondes Q à l’ECG: que faire?\n\n \tAppliquer la prise en charge recommandée selon le rapport d’ECG avec HVG ou ondes Q en inférieur\n \tPlanifier l’investigation et le suivi\n\nBloc 11 - FA - Ralentir ou convertir?\n\n \tMaîtriser les évidences favorisant les deux approches\n \tInitier les traitements disponibles\n \tPrévenir les récidives\n\nBloc 12 - Retours de tests avec certaines  tachycardies (B)\n\n \tÉvaluer adéquatement les résultats d’examens\n \tDécider d’une conduite initiale\n\nBloc 13 - La maladie artérielle périphérique (MAP) en bureau\n\n \tDépister la MAP en bureau\n \tTraiter efficacement les symptômes de MAP\n \tRéférer selon les indications en spécialité\n\nNote: l'ordre des blocs pourrait changer. L'heure du diner et les pauses ne constituent pas du temps accrédité.\n\nAccrédité pour 7 heures catégorie 1/B et 5 heures 3/C
URL:https://ecgu.ca/event/ecgu153-mf2-une-autre-journee-au-bureau-17-fevrier-2023/
END:VEVENT
END:VCALENDAR