BEGIN:VCALENDAR
VERSION:2.0
PRODID:-//ECG-u - ECPv4.2.6//NONSGML v1.0//EN
CALSCALE:GREGORIAN
METHOD:PUBLISH
X-WR-CALNAME:ECG-u
X-ORIGINAL-URL:https://ecgu.ca
X-WR-CALDESC:Events for ECG-u
BEGIN:VEVENT
DTSTART;TZID=America/New_York:20200514T080000
DTEND;TZID=America/New_York:20200514T170000
DTSTAMP:20260419T141613
CREATED:20191217T000018
LAST-MODIFIED:20200505T175549
UID:3589-1589443200-1589475600@ecgu.ca
SUMMARY:ECGU98: GRAVE... et urgent! Québec\, 14 mai 2020
DESCRIPTION:ATTENTION: EN RAISON DE LA CRISE COVID19\, NOUS TRAVAILLONS FORT EN CE MOMENT POUR VOUS LIVRER UNE FORMATION WEB À DISTANCE EN FORMAT INTERACTIF SUR LA PLATEFORME ZOOM (https://zoom.us/) QUI AURA LIEU LA MÊME DATE ET DURANT LES MÊMES HEURES ET QUE VOUS POURREZ SUIVRE DE VOTRE DOMICILE. \nLE DOCUMENT D'INFORMATION POUR LE BRANCHEMENT EST SOUS LE LIEN SUIVANT.\nNotre 98e journée de formation: cours intégré ECG\, DX et TX: GRAVE... et urgent!\n\n\nPour s'inscrire: https://ecgu.ca/inscription/ \n\n\nCours destiné aux médecins de famille\, médecins d'urgence spécialisés\, hospitalistes\, intensivistes\, internistes\, médecins en soins aigus\, anesthésistes\, cardiologues\, etc.\, et aux résidents de ces différents programmes. Les autres professionnels de la santé peuvent s'inscrire sous le tarif des résidents.\n\nOrganisateur à Québec: \n\n\n\nC\nECG-u: GRAVE... et urgent !\n\n\n20\nApproche clinique de l'Insuffisance cardiaque\n\n\n21\nApproche clinique de la syncope\n\n\n22-23\nDx ECG du syndrome de Brugada pour urgentos + Brève approche du syndrome de Brugada pour urgentos\n\n\n\n\n\n\n24-25\nDX ECG du QT long + TX des torsades de pointes et prise en charge du QT long\n\n\n\n\n\n\n26\nApproche clinique du choc cardiogénique\n\n\n27\nDX ECG des tachycardies à QRS large\n\n\n28\nTX des tachycardies à QRS larges et fonctionnement du défibrillateur interne\n\n\n29\nApproche clinique de la dissection aortique\n\n\n\n \n\nC0-Directeurs du cours:\n\nDominic Larose MD\nDavid Paré MD\nAlain Vadeboncoeur MD\n\nOrganisatrice locale:\n\nDre Grabrielle Lapointe\n\nCoût de l’inscription à l’atelier ECG-u d’une journée:\n\n– 460\,97 $ + taxes pour les médecins\n– 317\,46 $ + taxes pour les résidents et les autres professionnels.\n\nLes coûts comprennent:\n\n \tL'inscription à l'atelier d'une journée\n \tLe cahier de formation de cet atelier en format PDF avant la journée du cours\n \tLe document de référence de l'atelier en format PDF\n \tLes crédits de catégorie 1 (pour la participation à la journée)\n \tLes crédits de la section 3 (selon le travail effectué par le participant) incluant les pré-tests et post-test et leurs corrigés\n\nChoisir: (patrons) ou (résidents et autres professionnels)\n\nQC-MAI-2020 : 530 / R-QC-MAI-2020 : 365\n\n7 heures de formation continue\, 7 crédits de catégorie 1 + 5 crédits de catégorie 3.\n\nPour s'inscrire: https://ecgu.ca/inscription/ \n\nPour informations: ecgu.ca@gmail.com
URL:https://ecgu.ca/event/grave-et-urgent-quebec-14-mai-2020/
END:VEVENT
END:VCALENDAR