BEGIN:VCALENDAR
VERSION:2.0
PRODID:-//ECG-u - ECPv4.2.6//NONSGML v1.0//EN
CALSCALE:GREGORIAN
METHOD:PUBLISH
X-WR-CALNAME:ECG-u
X-ORIGINAL-URL:https://ecgu.ca
X-WR-CALDESC:Events for ECG-u
BEGIN:VEVENT
DTSTART;TZID=Africa/Abidjan:20170420T080000
DTEND;TZID=Africa/Abidjan:20170420T170000
DTSTAMP:20260420T045538
CREATED:20161204T082436
LAST-MODIFIED:20161213T010007
UID:1267-1492675200-1492707600@ecgu.ca
SUMMARY:HD Saint-Jérome / CISSS Laurentides - ECG-u 2 - Le 20 avril 2017
DESCRIPTION:Hôtel-Dieu de Saint-Jérome (HDSJ)\, ECG-u 2\, le 20 avril 2017\n\nAtelier organisé par Dre Véronique Gauthier. Pour vous inscrire: allez directement au formulaire d’inscription et choisir forfait HDSJ2 (413.13 + taxes) ou pour les résidents : HDSJ2-R (282.67$ + taxes). Les autres professionnels de la santé prennent le tarif HDSJ2-R.\nSalle du cours: Hôtel-Dieu de Saint-Jérome\, auditorium\nNote: le cours ECG-u 1 n'est PAS un pré-requis. \n
URL:https://ecgu.ca/event/hd-saint-jerome-cisss-laurentides-ecg-u-2-le-20-avril-2017/
END:VEVENT
END:VCALENDAR