BEGIN:VCALENDAR
VERSION:2.0
PRODID:-//ECG-u - ECPv4.2.6//NONSGML v1.0//EN
CALSCALE:GREGORIAN
METHOD:PUBLISH
X-WR-CALNAME:ECG-u
X-ORIGINAL-URL:https://ecgu.ca
X-WR-CALDESC:Events for ECG-u
BEGIN:VEVENT
DTSTART;TZID=America/New_York:20190321T080000
DTEND;TZID=America/New_York:20190321T170000
DTSTAMP:20260419T154123
CREATED:20171128T214425
LAST-MODIFIED:20180918T025034
UID:1983-1553155200-1553187600@ecgu.ca
SUMMARY:ECG-u 2 : Tx des arythmies - Sacré-Coeur et CIUSSS Nord de l'Ile - Jeudi 21 mars 2019
DESCRIPTION:Ce cours est organisé par Dr Michel Garner pour les médecins de l'Hôpital du Sacré-Coeur et du CIUSSS du Nord de l'Ile de Montréal.\n\nPour vous inscrire: allez directement au formulaire d’inscription et choisir forfait HSC-2019 (430\,53 + taxes = $ 495).\n\n\n\nOuverts aux résidents! Choisissez HSC-R-2019 (291.37 + tx = 335)\n\nLieu du cours: Salle Émilie-Gamelin\, Hôpital Sacré-Coeur
URL:https://ecgu.ca/event/hsc-et-ciusss-ecg-u-2-19-avril-2018/
END:VEVENT
END:VCALENDAR