BEGIN:VCALENDAR
VERSION:2.0
PRODID:-//ECG-u - ECPv4.2.6//NONSGML v1.0//EN
CALSCALE:GREGORIAN
METHOD:PUBLISH
X-WR-CALNAME:ECG-u
X-ORIGINAL-URL:https://ecgu.ca
X-WR-CALDESC:Events for ECG-u
BEGIN:VEVENT
DTSTART;TZID=America/New_York:20150603T080000
DTEND;TZID=America/New_York:20150603T170000
DTSTAMP:20260421T232823
CREATED:20150221T163814
LAST-MODIFIED:20150302T203922
UID:327-1433318400-1433350800@ecgu.ca
SUMMARY:ICM - 3 juin 2015
DESCRIPTION:* * *\n\nOrganisé par Dr Alain Vadeboncoeur et Dr Dominic Larose et Daniel Vadeboncoeur\nEn partenariat avec la Fondation de l'ICM et le Service de médecine d'urgence de l'ICM\nPour vous inscrire: allez directement au formulaire d'inscription et choisir forfait ICM 3 juin.\nTarif résident disponible (375$ avec taxes).\nINSCRIPTION\n\n\n\n\n 
URL:https://ecgu.ca/event/icm-3-juin-2015/
LOCATION:5000 Bélanger Est\, Montréal\, Québec\, H1T1C8\, Canada
END:VEVENT
END:VCALENDAR