BEGIN:VCALENDAR
VERSION:2.0
PRODID:-//ECG-u - ECPv4.2.6//NONSGML v1.0//EN
CALSCALE:GREGORIAN
METHOD:PUBLISH
X-WR-CALNAME:ECG-u
X-ORIGINAL-URL:https://ecgu.ca
X-WR-CALDESC:Events for ECG-u
BEGIN:VEVENT
DTSTART;TZID=America/New_York:20191101T080000
DTEND;TZID=America/New_York:20191101T170000
DTSTAMP:20260419T175842
CREATED:20190213T220855
LAST-MODIFIED:20191024T182637
UID:2698-1572595200-1572627600@ecgu.ca
SUMMARY:COMPLET! ECG-u: ISCHÉMIE... et ses amies - 1er novembre 2019
DESCRIPTION:ISCHÉMIE... et ses amies -Vendredi 1er novembre 2019 - 8h00 à17h00\n\n  \n\n\n1\nDx ECG de l'infarctus aigu (Onds T hyperaigues\, ST+\, critères de gravité)\n\n\n2\nDx ECG de l'infarctus aigu à ne pas manquer (IM inf\, post\, BBGC\, PM\, BBDC\, etc)\n\n\n3\nTx de l'infarctus aigu à l'urgence\n\n\n4\nDx ECG de la péricardite et de la repolarisation précoce\n\n\n5\nComplément Dx et Tx de la péricardite à l'irgence\n\n\n7\nDx ECG du syndrome coronarien\n\n\n8\nComplément Dx et Tx du syndrome conarien aigu à l'urgence\n\n\n9\nDx ECG malins et bénins F+ de SCA (onde T et segment ST)\n\n\n\nOrganisation locale: Valérie Dionne\, inf-IPS en cardiologie et Dre Diana Fadlallah\, R3 MUMF\, HSC\n\nAccueil 7h45 - Nouvel Hôtel de Montréal \n\nTarif IPS: 291 $ + Tx - Tarif RÉS: 308 $ + Tx\n\nS'inscrire: https://ecgu.ca/inscription/ et choisir 2019IPS-I ou 2019RES-I\n\n 
URL:https://ecgu.ca/event/ischemie-cours-ips-1er-novembre-2019-icm/
LOCATION:1740 Boulevard René-Lévesque O\, Montréal\, Québec\, H3H1R3\, Canada
CATEGORIES:Cours
END:VEVENT
END:VCALENDAR