BEGIN:VCALENDAR
VERSION:2.0
PRODID:-//ECG-u - ECPv4.2.6//NONSGML v1.0//EN
CALSCALE:GREGORIAN
METHOD:PUBLISH
X-WR-CALNAME:ECG-u
X-ORIGINAL-URL:https://ecgu.ca
X-WR-CALDESC:Events for ECG-u
BEGIN:VEVENT
DTSTART;TZID=America/New_York:20170607T080000
DTEND;TZID=America/New_York:20170608T170000
DTSTAMP:20260420T025538
CREATED:20161217T174210
LAST-MODIFIED:20170310T171809
UID:1309-1496822400-1496941200@ecgu.ca
SUMMARY:Joliette / CISSS Lanaudière - BootCamp ECG-u 1+2 - 7 & 8 juin 2017
DESCRIPTION:CH Régional de Lanaudière / CISSS Launaudière: Bootcamp ECG-u 1+2\, les 7 & 8 juin 2017. Cet atelier de 2 jours est organisé par les Drs Amélie Comtois et Maryse Houde.\nPour vous inscrire: allez au formulaire d’inscription et choisir forfait JOL (726.24 $ + taxes) ou pour les résidents JOL-R (495.76$ + taxes). Les autres professionnels de la santé prennent le tarif résidents.\nATTENTION! Maintenant ouvert pour des inscriptions d’une journée! Coût de l’inscription à l’atelier ECG-u d’une journée (1 ou 2):\n– 413\,13$ + taxes pour les médecins\n– 282.67$ + taxes pour les résidents et les autres professionnels.\nChoisissez JOL1 ou JOL2 ou encore JOL1-R ou JOL2-R\nNote: le cours 1 n'est pas un pré-requis pour le cours 2\nLieu du cours: Chateau Joliette
URL:https://ecgu.ca/event/joliette-cisss-lanaudieres-bootcamp-ecg-u-12-7-8-juin-2017/
LOCATION:450 Rue Saint Thomas\, Joliette\, QC J6E 3R1\, Joliette\, Canada
END:VEVENT
END:VCALENDAR