BEGIN:VCALENDAR
VERSION:2.0
PRODID:-//ECG-u - ECPv4.2.6//NONSGML v1.0//EN
CALSCALE:GREGORIAN
METHOD:PUBLISH
X-WR-CALNAME:ECG-u
X-ORIGINAL-URL:https://ecgu.ca
X-WR-CALDESC:Events for ECG-u
BEGIN:VEVENT
DTSTART;TZID=America/Montreal:20160519T080000
DTEND;TZID=America/Montreal:20160519T170000
DTSTAMP:20260421T214941
CREATED:20151210T055632
LAST-MODIFIED:20160429T201908
UID:611-1463644800-1463677200@ecgu.ca
SUMMARY:ECGu-1 : McGill\, Montreal\, Qc (English)
DESCRIPTION:McGill ECG-u 1 workshop\, Montreal\, May 19th\, 2016 (english)\n\nThis one-day ECG-u 1 course is organized by EM PGY-1 Caroline Hosatte-Ducassy for McGill EM Physicians and PGY and others. To register: go directly to registration and choose McGill (413.13 + taxes = 475$) or if you're PGY: McGill-PGY (282.67$ + taxes = 325$). Other healthcare provider choose PGY fare. English course.\nCours location: McGill-McIntyre building\, Room 206-207.
URL:https://ecgu.ca/event/mcgill-montreal/
END:VEVENT
END:VCALENDAR