BEGIN:VCALENDAR
VERSION:2.0
PRODID:-//ECG-u - ECPv4.2.6//NONSGML v1.0//EN
CALSCALE:GREGORIAN
METHOD:PUBLISH
X-WR-CALNAME:ECG-u
X-ORIGINAL-URL:https://ecgu.ca
X-WR-CALDESC:Events for ECG-u
BEGIN:VEVENT
DTSTART;TZID=America/Montreal:20160525T080000
DTEND;TZID=America/Montreal:20160526T170000
DTSTAMP:20260421T215121
CREATED:20160116T041134
LAST-MODIFIED:20160404T184227
UID:642-1464163200-1464282000@ecgu.ca
SUMMARY:ECG-u 1 + 2 - Québec 25 et 26 mai 2015 - COMPLET!
DESCRIPTION:Québec\, Université Laval\, ECG-u 1 et ECG-u 2\, les 25-26 mai 2016 (1 ou 2 journée(s) – au choix) est COMPLET\nCet atelier de 2 jours est organisé par Dr David Paré. Pour vous inscrire: allez directement au formulaire d’inscription et choisir:\nECG-u 1+2:  QC25+26 (726.24 $ + taxes = 835$) ou\nQC25+26-R (495.76$ + taxes = 570$).\nECG-u 1:  QC25 (413.13 + taxes = 475$) ou\nQC25-R (282.67$ + taxes = 325$)\nECG-u 2:  QC26 (413.13 + taxes = 475$) ou\nQC26-R (282.67$ + taxes = 325$)\nLes autres professionnels de la santé prennent le tarif résidents.\nLieu du cours: Hôtel Clarion. http://www.clarionquebec.com/fr/\n3125 Hochelaga Blvd Sainte-Foy\, Quebec canada G1W 2P9
URL:https://ecgu.ca/event/quebec-25-et-26-mai-2015/
LOCATION:LIEU DU COURS: Hôtel Clarion. http://www.clarionquebec.com/fr/  3125 Hochelaga Blvd Sainte-Foy\, Quebec G1W 2P9\, Québec\, Canada
END:VEVENT
END:VCALENDAR