BEGIN:VCALENDAR
VERSION:2.0
PRODID:-//ECG-u - ECPv4.2.6//NONSGML v1.0//EN
CALSCALE:GREGORIAN
METHOD:PUBLISH
X-WR-CALNAME:ECG-u
X-ORIGINAL-URL:https://ecgu.ca
X-WR-CALDESC:Events for ECG-u
BEGIN:VEVENT
DTSTART;TZID=America/New_York:20151001T080000
DTEND;TZID=America/New_York:20151001T170000
DTSTAMP:20260421T232956
CREATED:20150626T023914
LAST-MODIFIED:20150626T023914
UID:458-1443686400-1443718800@ecgu.ca
SUMMARY:Rivière-Rouge - 1er octobre 2015
DESCRIPTION:Rivière-Rouge (CISSS Laurentides) le 1er octobre 2015\nCet atelier est organisé par Dr Pierre-Olivier Roy.\nPour vous inscrire: allez directement au formulaire d’inscription et choisir forfait ROUGE (413.13 + taxes = 475$) ou ROUGE-résidents (282.67$ + taxes = 325$). Les professionnels de la santé non-MD prennent le tarif résidents.\nSalle du cours:  à venir (CH Antoine-Labelle à Rivière-Rouge)
URL:https://ecgu.ca/event/riviere-rouge-1er-octobre-2015/
END:VEVENT
END:VCALENDAR