BEGIN:VCALENDAR
VERSION:2.0
PRODID:-//ECG-u - ECPv4.2.6//NONSGML v1.0//EN
CALSCALE:GREGORIAN
METHOD:PUBLISH
X-WR-CALNAME:ECG-u
X-ORIGINAL-URL:https://ecgu.ca
X-WR-CALDESC:Events for ECG-u
BEGIN:VEVENT
DTSTART;TZID=America/New_York:20150925T080000
DTEND;TZID=America/New_York:20150925T170000
DTSTAMP:20260421T233223
CREATED:20150626T023750
LAST-MODIFIED:20150626T023750
UID:456-1443168000-1443200400@ecgu.ca
SUMMARY:Saint-Jean-sur-Richelieu - 25 septembre 2015
DESCRIPTION:Saint-Jean-sur-Richelieu le 25 septembre 2015\nCet atelier est organisé par Dr Anne Mongeon.\nPour vous inscrire: allez directement au formulaire d’inscription et choisir forfait STJEAN (413.13 + taxes = 475$) ou STJEAN-résidents (282.67$ + taxes = 325$). Les professionnels de la santé non-MD prennent le tarif résidents.\nSalle du cours:  à venir (Hôpital Haut-Richelieu)
URL:https://ecgu.ca/event/saint-jean-sur-richelieu-25-septembre-2015/
END:VEVENT
END:VCALENDAR