BEGIN:VCALENDAR
VERSION:2.0
PRODID:-//ECG-u - ECPv4.2.6//NONSGML v1.0//EN
CALSCALE:GREGORIAN
METHOD:PUBLISH
X-WR-CALNAME:ECG-u
X-ORIGINAL-URL:https://ecgu.ca
X-WR-CALDESC:Events for ECG-u
BEGIN:VEVENT
DTSTART;TZID=America/New_York:20170510T080000
DTEND;TZID=America/New_York:20170511T170000
DTSTAMP:20260420T025416
CREATED:20170122T084455
LAST-MODIFIED:20170306T155837
UID:1206-1494403200-1494522000@ecgu.ca
SUMMARY:Val d'Or... pour toute l'Abitibi ! Boot Camp ECG-u 1+2 ! - 10-11 mai 2017
DESCRIPTION:Val d'Or... pour toute l'Abitibi ! Bootcamp ECG-u 1+2\, les 10-11 mai 2017.\nCet atelier de 2 jours est organisé par Dr François Venne.\nPour vous inscrire: allez au formulaire d'inscription et choisir forfait Abitibi (726.24 $ + taxes) ou pour les résidents Abitibi-R (495.76$ + taxes).\nLes autres professionnels de la santé prennent le tarif résidents.\nATTENTION! Maintenant ouvert pour des inscriptions d’une journée! Coût de l’inscription à l’atelier ECG-u d’une journée (1 ou 2):\n– 413\,13$ + taxes pour les médecins\n– 282.67$ + taxes pour les résidents et les autres professionnels.\nChoisissez Abitibi1 ou Abitibi2 ou encore Abitibi1-R ou Abitibi2-R\nNote: le cours 1 n'est pas un pré-requis pour le cours 2\nLieu du cours: Val d'Or - Hôtel Forestel. 1001 3e Avenue Est\, Val-d'Or\, QC J9P 0J7. Téléphone : (819) 825-5660
URL:https://ecgu.ca/event/val-dor-pour-toute-labitibi-boot-camp-ecg-u-12/
LOCATION:Québec\, Canada
END:VEVENT
END:VCALENDAR