BEGIN:VCALENDAR
VERSION:2.0
PRODID:-//ECG-u - ECPv4.2.6//NONSGML v1.0//EN
CALSCALE:GREGORIAN
METHOD:PUBLISH
X-WR-CALNAME:ECG-u
X-ORIGINAL-URL:https://ecgu.ca
X-WR-CALDESC:Events for ECG-u
BEGIN:VEVENT
DTSTART;TZID=America/New_York:20170907T080000
DTEND;TZID=America/New_York:20170907T170000
DTSTAMP:20260420T005043
CREATED:20170211T152032
LAST-MODIFIED:20170630T155634
UID:1466-1504771200-1504803600@ecgu.ca
SUMMARY:Verdun / CIUSSS Centre-Sud - ECG-u 2 - TX Arythmies - 7 sep 2017
DESCRIPTION:Hôpital de Verdun / CIUSSS Centre Sud\, ECG-u 2: TX Arythmies \, le 7 septembre 2016\n\nAtelier organisé par Dr Ivan Pavlov. Pour vous inscrire: allez directement au formulaire d'inscription et choisir forfait Verdun (413.13 + taxes) ou pour les résidents : Verdun-R (282.67$ + taxes). Les autres professionnels de la santé prennent le tarif résidents.
URL:https://ecgu.ca/event/verdun-ciusss-centre-sud-ecg-u-2-tx-arythmies-7-sep-2017/
LOCATION:1740 Boulevard René-Lévesque O\, Montréal\, Québec\, H3H1R3\, Canada
END:VEVENT
END:VCALENDAR