BEGIN:VCALENDAR
VERSION:2.0
PRODID:-//ECG-u - ECPv4.2.6//NONSGML v1.0//EN
CALSCALE:GREGORIAN
METHOD:PUBLISH
X-WR-CALNAME:ECG-u
X-ORIGINAL-URL:https://ecgu.ca
X-WR-CALDESC:Events for ECG-u
BEGIN:VEVENT
DTSTART;TZID=America/New_York:20240328T080000
DTEND;TZID=America/New_York:20240328T170000
DTSTAMP:20260424T013539
CREATED:20231226T052654
LAST-MODIFIED:20231230T012758
UID:7530-1711612800-1711645200@ecgu.ca
SUMMARY:ECGU: Une autre journée au bureau - MF2 - GMF-U Trois-Rivières
DESCRIPTION:ECGU - UNE AUTRE JOURNÉE AU BUREAU! - MF2 (sans ECG) pour la 1ère ligne\, basé sur des contenus cardiologiques top qualité et à jour entièrement adaptés à des situations cliniques de 1ère ligne en bureau. Le cours est sur invitation du GMF-U de Trois-Rivières. Contactez les responsables de l'enseignement au GMF-U pour toute information et inscription.\nGMF-U de Trois-Rivières\n731 rue Sainte-Julie\, 2e étage\nTrois-Rivières (Québec) G9A 1Y1\n\nTéléphone : (819) 372-3536\nTélécopieur : (819) 372-3509\n\n 
URL:https://ecgu.ca/event/ecgu-une-autre-journee-au-bureau-mf2-gmf-u-trois-rivieres/
LOCATION:Québec\, Canada
CATEGORIES:Cours
END:VEVENT
END:VCALENDAR